BEGIN:VCALENDAR
VERSION:2.0
PRODID:-//ChamberMaster//Event Calendar 2.0//EN
METHOD:PUBLISH
X-PUBLISHED-TTL:P3D
REFRESH-INTERVAL:P3D
CALSCALE:GREGORIAN
BEGIN:VEVENT
DTSTART:20260521T143000Z
DTEND:20260521T163000Z
X-MICROSOFT-CDO-ALLDAYEVENT:FALSE
SUMMARY:Breakfast with the Gaymber
DESCRIPTION:Panel Discussion: Sustainable Humans\, Sustainable Business: Mental Health in the Workplace
X-ALT-DESC;FMTTYPE=text/html:<p style="margin: 0px\; font-stretch: normal\; line-height: normal\;">Panel Discussion:&nbsp\;<span class="a_GcMg font-feature-liga-off font-feature-clig-off font-feature-calt-off text-decoration-none text-strikethrough-none" style="color: rgba(0\,0\,0\,var(--O42jJQ\,1))\; caret-color: rgb(0\, 0\, 0)\; --Ys-XuQ: none\; font-weight: 700\; font-style: italic\; font-kerning: normal\;">Sustainable Humans\, Sustainable Business: Mental Health in the Workplace</span></p>\n
LOCATION:YWCA of Southern Arizona
UID:e.2682.10905
SEQUENCE:3
DTSTAMP:20260423T104924Z
URL:https://members.tucsonlgbtchamber.com/events/details/breakfast-with-the-gaymber-10905
END:VEVENT

END:VCALENDAR
